BEGIN:VCALENDAR
VERSION:2.0
PRODID:-//Schwitzkasten - ECPv5.3.2.1//NONSGML v1.0//EN
CALSCALE:GREGORIAN
METHOD:PUBLISH
X-WR-CALNAME:Schwitzkasten
X-ORIGINAL-URL:https://schwitzkasten.net
X-WR-CALDESC:Veranstaltungen für Schwitzkasten
BEGIN:VTIMEZONE
TZID:Europe/Berlin
BEGIN:DAYLIGHT
TZOFFSETFROM:+0100
TZOFFSETTO:+0200
TZNAME:CEST
DTSTART:20260329T010000
END:DAYLIGHT
BEGIN:STANDARD
TZOFFSETFROM:+0200
TZOFFSETTO:+0100
TZNAME:CET
DTSTART:20261025T010000
END:STANDARD
END:VTIMEZONE
BEGIN:VEVENT
DTSTART;TZID=Europe/Berlin:20260504T170000
DTEND;TZID=Europe/Berlin:20260504T180000
DTSTAMP:20260420T131724
CREATED:20260419T093026Z
LAST-MODIFIED:20260419T094447Z
UID:91970-1777914000-1777917600@schwitzkasten.net
SUMMARY:JUMPING FITNESS
DESCRIPTION:
URL:https://schwitzkasten.net/kurs/jumping-fitness/2026-05-04/
LOCATION:Schwitzkasten
CATEGORIES:Kurse,Schwitzkasten
END:VEVENT
END:VCALENDAR